BEGIN:VCALENDAR
VERSION:2.0
PRODID:-//WIR IN KALKHORST - ECPv6.15.20//NONSGML v1.0//EN
CALSCALE:GREGORIAN
METHOD:PUBLISH
X-WR-CALNAME:WIR IN KALKHORST
X-ORIGINAL-URL:https://kalkhorster.de
X-WR-CALDESC:Veranstaltungen für WIR IN KALKHORST
REFRESH-INTERVAL;VALUE=DURATION:PT1H
X-Robots-Tag:noindex
X-PUBLISHED-TTL:PT1H
BEGIN:VTIMEZONE
TZID:Europe/Berlin
BEGIN:DAYLIGHT
TZOFFSETFROM:+0100
TZOFFSETTO:+0200
TZNAME:CEST
DTSTART:20250330T010000
END:DAYLIGHT
BEGIN:STANDARD
TZOFFSETFROM:+0200
TZOFFSETTO:+0100
TZNAME:CET
DTSTART:20251026T010000
END:STANDARD
BEGIN:DAYLIGHT
TZOFFSETFROM:+0100
TZOFFSETTO:+0200
TZNAME:CEST
DTSTART:20260329T010000
END:DAYLIGHT
BEGIN:STANDARD
TZOFFSETFROM:+0200
TZOFFSETTO:+0100
TZNAME:CET
DTSTART:20261025T010000
END:STANDARD
BEGIN:DAYLIGHT
TZOFFSETFROM:+0100
TZOFFSETTO:+0200
TZNAME:CEST
DTSTART:20270328T010000
END:DAYLIGHT
BEGIN:STANDARD
TZOFFSETFROM:+0200
TZOFFSETTO:+0100
TZNAME:CET
DTSTART:20271031T010000
END:STANDARD
END:VTIMEZONE
BEGIN:VEVENT
DTSTART;TZID=Europe/Berlin:20260523T100000
DTEND;TZID=Europe/Berlin:20260523T180000
DTSTAMP:20260425T141817
CREATED:20260413T074534Z
LAST-MODIFIED:20260421T064207Z
UID:10004043-1779530400-1779559200@kalkhorster.de
SUMMARY:„KunstOffen“ auf dem Scheiblerhof
DESCRIPTION:Wir möchten herzlich zur Aktion „KunstOffen“ einladen.\nWann: Samstag und Sonntag\, 23. und 24. Mai\, 10:00 bis 18:00 Uhr\nWO: Scheiblerhof\, Dorfstr. 2\, 23948 Elmenhorst\nRückfragen: J. Kohtz: 0151 27588510\nEintritt frei\nProgramm: siehe Banner
URL:https://kalkhorster.de/veranstaltung/kunstoffen-auf-dem-scheiblerhof/2026-05-23/
LOCATION:Scheiblers Hof\, Dorfstraße 2\, Elmenhorst\, 23948
CATEGORIES:Kunst,KunstOffen
ATTACH;FMTTYPE=image/jpeg:https://kalkhorster.de/wp-content/uploads/2026/04/kunstoffen-scheibler.jpg
ORGANIZER;CN="J%C3%BCrgen Kohtz":MAILTO:juergen.kohtz@t-online.de
GEO:53.9933542;11.1217809
X-APPLE-STRUCTURED-LOCATION;VALUE=URI;X-ADDRESS=Scheiblers Hof Dorfstraße 2 Elmenhorst 23948;X-APPLE-RADIUS=500;X-TITLE=Dorfstraße 2:geo:11.1217809,53.9933542
END:VEVENT
BEGIN:VEVENT
DTSTART;TZID=Europe/Berlin:20260524T100000
DTEND;TZID=Europe/Berlin:20260524T180000
DTSTAMP:20260425T141817
CREATED:20260413T074534Z
LAST-MODIFIED:20260421T064207Z
UID:10004044-1779616800-1779645600@kalkhorster.de
SUMMARY:„KunstOffen“ auf dem Scheiblerhof
DESCRIPTION:Wir möchten herzlich zur Aktion „KunstOffen“ einladen.\nWann: Samstag und Sonntag\, 23. und 24. Mai\, 10:00 bis 18:00 Uhr\nWO: Scheiblerhof\, Dorfstr. 2\, 23948 Elmenhorst\nRückfragen: J. Kohtz: 0151 27588510\nEintritt frei\nProgramm: siehe Banner
URL:https://kalkhorster.de/veranstaltung/kunstoffen-auf-dem-scheiblerhof/2026-05-24/
LOCATION:Scheiblers Hof\, Dorfstraße 2\, Elmenhorst\, 23948
CATEGORIES:Kunst,KunstOffen
ATTACH;FMTTYPE=image/jpeg:https://kalkhorster.de/wp-content/uploads/2026/04/kunstoffen-scheibler.jpg
ORGANIZER;CN="J%C3%BCrgen Kohtz":MAILTO:juergen.kohtz@t-online.de
GEO:53.9933542;11.1217809
X-APPLE-STRUCTURED-LOCATION;VALUE=URI;X-ADDRESS=Scheiblers Hof Dorfstraße 2 Elmenhorst 23948;X-APPLE-RADIUS=500;X-TITLE=Dorfstraße 2:geo:11.1217809,53.9933542
END:VEVENT
END:VCALENDAR